BEGIN:VCALENDAR
VERSION:2.0
PRODID:-//LÍTERA - ECPv6.15.20//NONSGML v1.0//EN
CALSCALE:GREGORIAN
METHOD:PUBLISH
X-WR-CALNAME:LÍTERA
X-ORIGINAL-URL:https://litera.mus.br
X-WR-CALDESC:Eventos para LÍTERA
REFRESH-INTERVAL;VALUE=DURATION:PT1H
X-Robots-Tag:noindex
X-PUBLISHED-TTL:PT1H
BEGIN:VTIMEZONE
TZID:UTC
BEGIN:STANDARD
TZOFFSETFROM:+0000
TZOFFSETTO:+0000
TZNAME:UTC
DTSTART:20140101T000000
END:STANDARD
END:VTIMEZONE
BEGIN:VEVENT
DTSTART;TZID=UTC:20160401T200000
DTEND;TZID=UTC:20160401T200000
DTSTAMP:20260423T212942
CREATED:20160322T174103Z
LAST-MODIFIED:20160328T205723Z
UID:1318-1459540800-1459540800@litera.mus.br
SUMMARY:Pré-lançamento clipe amantes | POA
DESCRIPTION:POVO! Sexta-feira é o dia da nossa divaaaaaa! \nO André chegou nos 35 (com carinha de 52) e\, pra comemorar\, estamos bolando um aniversário cheio de surpresas e presentes pra todo mundo. \nJá pode ir te preparando pra CANJA do aniversariante e pro PRÉ-LANÇAMENTO do clipe ao vivo de Amantes \o/ \nA função começa às 20h e o clipe vai ser exibido às 21h.\nVai ser no Mondo Cane\, ali na CB! Se vier com sorriso no rosto\, a entrada é liberada 😉\nVEEEM PRA ESSA NOITE QUE SERÁ AGRADABILÍÍÍSSIMA! \nParticipe do evento: https://www.facebook.com/events/1740098282942447/ \n*lista de presentes disponível nas lojas:\nhttp://www.pedeapoio.com.br/\nhttp://www.lojadoavo.com.br/ \n \n \nApoio \nIntensa\nMondo Cane\nMarquise 51
URL:https://litera.mus.br/agenda/pre-lancamento-clipe-bercy-poa/
LOCATION:Mondo Cane\, Rua João Alfredo\, 325 - Cidade Baixa\, Porto Alegre\, Rio Grande do Sul\, 90050-230\, Brasil
ATTACH;FMTTYPE=image/jpeg:https://litera.mus.br/wp-content/uploads/2016/03/ORO4944.jpg
END:VEVENT
BEGIN:VEVENT
DTSTART;TZID=UTC:20160327T170000
DTEND;TZID=UTC:20160327T180000
DTSTAMP:20260423T212942
CREATED:20160216T204035Z
LAST-MODIFIED:20160324T182737Z
UID:1301-1459098000-1459101600@litera.mus.br
SUMMARY:Gasômetro | Porto Alegre | RS
DESCRIPTION:No aniversário de Porto Alegre tem Grito Rock! Tem cultura nos espaços públicos\, gente jovem na rua e a cena criativa em efervescência! Olha que linda toda a programação do Grito Rock Porto Alegre: \n\n27 de março | Usina do Gasômetro \nArtes Visuais\n14h | Exposição do coletivo de artistas d’O Bestiário \nBate papos e oficinas\n14h | Oficina de ‪#‎Yoga‬ no Mezanino da Usina\n14h | Roda de Conversa sobre ‪#‎EmpoderamentoFeminino‬ no Térreo da Usina\n15h30 | Oficina de ‪#‎SaberesNaturais‬: O poder das plantas e introdução de produtos naturais no Mezanino da Usina\n15h30 | Roda de conversa sobre ‪#‎ProduçãoCultural‬ no Térreo da Usina \nShows:\n14h30 | DJ PIÁ\n15h | ‪#‎EdgarParobé‬\n15h40 | Louis&Anas\n16h20 | Motor City Madness\n17h | Os Torto\n17h40 | The Jalmas\n18h20 | Lítera Banda\n19h05 | Identidade\n+ Rangos + Cevas Artesanais + Feirinha Criativa \n‪#‎AtraçãoConfirmada‬ ‪#‎GritoRock2016‬ ‪#‎POAVaiGritar‬ ‪#‎CulturaNaRua‬‪#‎POA244‬ ‪#‎Marquise51‬ \n\nENTRADA GRATUITA \nBJ \n 
URL:https://litera.mus.br/agenda/opiniao-porto-alegre-rs/
LOCATION:Rio Grande do Sul
ATTACH;FMTTYPE=image/jpeg:https://litera.mus.br/wp-content/uploads/2016/02/LITERA-GASO.jpg
END:VEVENT
BEGIN:VEVENT
DTSTART;TZID=UTC:20160302T170000
DTEND;TZID=UTC:20160302T180000
DTSTAMP:20260423T212942
CREATED:20160229T191848Z
LAST-MODIFIED:20160229T191848Z
UID:1312-1456938000-1456941600@litera.mus.br
SUMMARY:Sunset Beira-Rio | Porto Alegre | RS
DESCRIPTION:Quem chegar cedo ao Beira-Rio dia 02/03 no show irá curtir a maior Concentra do Rock! \nEvento: https://www.facebook.com/events/457058241151863/ \nO Concentra do Rock abre às 13h com os Djs Edu Santos e Lelê\, os shows com as bandas Acústico Gelpi\, Lara Rossato\, Deluce e Lítera começam às 16h. \nA Lítera está programada pra tocar às 17h. \nO espaço terá serviço de food trucks e bebidas com preços promocionais! \nO que: Concentra do Rock / Palco Loop Discos.\nQuando: Quarta-feira dia 2 de março\nHorário: A partir das 13h\nAtrações: Lítera\, Lara Rossato\, Deluce\, Acústico Gelpi e Djs Edu Santos e Lelê.\nLocal: Sunset Beira-Rio (ao lado do estacionamento do Beira-Rio) \nEntrada Franca
URL:https://litera.mus.br/agenda/sunset-beira-rio-porto-alegre-rs/
LOCATION:Sunset Beira-Rio
ATTACH;FMTTYPE=image/jpeg:https://litera.mus.br/wp-content/uploads/2016/02/12795326_1258251847521540_5679658785387708243_n.jpg
END:VEVENT
BEGIN:VEVENT
DTSTART;TZID=UTC:20160123T170000
DTEND;TZID=UTC:20160123T180000
DTSTAMP:20260423T212942
CREATED:20160114T204847Z
LAST-MODIFIED:20160114T205232Z
UID:1297-1453568400-1453572000@litera.mus.br
SUMMARY:Solar da Marquesa | São Paulo | SP
DESCRIPTION:Programação de aniversário de 462 anos de São Paulo apresenta Lítera no Solar da Marquesa. \nServiço: 23 de janeiro\, 17h.\nClassificação indicativa: Livre. Duração: 60 minutos\nSolar da Marquesa\nRua Roberto Simonsen\, 136 – Sé \nShow do disco Caso Real\nUma série de cartas do Imperador Dom Pedro I\, fundador e primeiro soberano do Império do Brasil\, para a Marquesa de Santos\, a insaciável “Domitila”\, as quais\, até pouco tempo atrás\, eram dadas como desaparecidas são encontradas num obscuro museu nos Estados Unidos. Escritas entre 1823 e 1827\, as missivas revelam aspectos da vida sexual e política na corte brasileira. Este é o mote poético e\, mais do que isso\, o caráter “epistolar” que a Lítera verteu na vibrante coleção de canções que estão presente no álbum Caso Real\, o segundo da banda porto-alegrense.
URL:https://litera.mus.br/agenda/solar-da-marquesa-sp/
LOCATION:Solar da Marquesa\, Rua Roberto Simonsen\, 136 - Sé\, São Paulo\, São Paulo\, Brasil
ATTACH;FMTTYPE=image/jpeg:https://litera.mus.br/wp-content/uploads/2016/01/litera_solar_marquesa.jpg
END:VEVENT
BEGIN:VEVENT
DTSTART;TZID=UTC:20151128T200000
DTEND;TZID=UTC:20151128T211500
DTSTAMP:20260423T212942
CREATED:20150926T155655Z
LAST-MODIFIED:20151102T212500Z
UID:1208-1448740800-1448745300@litera.mus.br
SUMMARY:Lançamento do disco Caso Real | Teatro do SESC | POA | RS
DESCRIPTION:LÍTERA lançando o disco Caso Real\nSábado\, dia 28 de novembro de 2015\, às 20 horas\nTeatro do Sesc – Av. Alberto Bins\, 365 – Centro Histórico\nClassificação: Livre\nDuração: 90 minutos \nINGRESSOS \nR$ 20\,00 – Inteira\nR$ 10\,00 – Meia-entrada | Estudantes\, menores de 10 e maiores de 60 anos*\nR$ 7\,00 – Comerciários e dependentes com Cartão Sesc/Senac** \nPONTOS DE VENDA \nLancheria do Parque – Av. Osvaldo Aranha\, 1086 – Bom Fim\nMil Sons – Av. Alberto Bins\, 366 – Centro Histórico \nOnline – www.sympla.com.br/litera-no-teatro-do-sesc__48263 \nSesc – Av. Alberto Bins\, 365 – Centro Histórico (apenas Cartão Sesc) \nAtenção \n* A comprovação da meia-entrada deve ser feita no local\, no dia do evento.\n** Os ingressos com Cartão Sesc/Senac somente podem ser adquiridos na bilheteria do Sesc. \nRealização: Loop Discos e Marquise 51\nPatrocínio: Mondo Cane\, Pampa Burger e Openstage\nApoio: Sesc/RS\, TVE e FM Cultura
URL:https://litera.mus.br/agenda/lancamento-do-disco-caso-real-teatro-do-sesc-poars/
LOCATION:Teatro do SESC\, Alberto Bins\, 665 - Centro histórico\, porto alegre\, RS\, 90030-140\, Brasil
ATTACH;FMTTYPE=image/jpeg:https://litera.mus.br/wp-content/uploads/2015/09/top_ingressos.jpg
END:VEVENT
BEGIN:VEVENT
DTSTART;TZID=UTC:20151121T010000
DTEND;TZID=UTC:20151121T020000
DTSTAMP:20260423T212942
CREATED:20151001T213926Z
LAST-MODIFIED:20151014T200940Z
UID:1218-1448067600-1448071200@litera.mus.br
SUMMARY:Festival Rocha in Roll | Caçapava do Sul | RS
DESCRIPTION:Informações: Evento no facebook
URL:https://litera.mus.br/agenda/festival-rocha-in-roll-cacapava-do-sul-rs/
LOCATION:Rio Grande do Sul
ATTACH;FMTTYPE=image/jpeg:https://litera.mus.br/wp-content/uploads/2015/10/12011379_888669374555644_6394189620159573010_n.jpg
END:VEVENT
BEGIN:VEVENT
DTSTART;TZID=UTC:20151112T203000
DTEND;TZID=UTC:20151112T211500
DTSTAMP:20260423T212942
CREATED:20151001T212814Z
LAST-MODIFIED:20151102T211425Z
UID:1217-1447360200-1447362900@litera.mus.br
SUMMARY:MANIFESTAÇÕES CULTURAIS DA FEEVALE | NOVO HAMBURGO | RS
DESCRIPTION:20h30 – Show da Lítera Banda\nLocal: Rua Coberta | Câmpus II \nEvento no Facebook: https://www.facebook.com/events/853634144734595/
URL:https://litera.mus.br/agenda/feevale-novo-hamburgo-rs/
LOCATION:Universidade Feevale\, ERS-239\, 2755\, Novo Hamburgo\, 93525-075 
ATTACH;FMTTYPE=image/jpeg:https://litera.mus.br/wp-content/uploads/2015/10/12143088_1658775481037294_8747081683532706504_n-1.jpg
END:VEVENT
BEGIN:VEVENT
DTSTART;TZID=UTC:20151108T180000
DTEND;TZID=UTC:20151108T200000
DTSTAMP:20260423T212942
CREATED:20151102T165022Z
LAST-MODIFIED:20151102T210733Z
UID:1231-1447005600-1447012800@litera.mus.br
SUMMARY:9ª Edição do Projeto Vizinhança | POA | RS
DESCRIPTION:Pocket show no projeto vizinhança no dia 8 de novembro.\nEntrada gratuita. \nEvento: https://www.facebook.com/events/1636391343313288/
URL:https://litera.mus.br/agenda/9a-edicao-do-projeto-vizinhanca-poa-rs/
LOCATION:Local sem nome\, Av. Guaíba\, 4126\, bairro Assunção\, porto alegre\, Brasil
ATTACH;FMTTYPE=image/jpeg:https://litera.mus.br/wp-content/uploads/2015/11/12186603_693451177457057_3738904994198173317_o.jpg
END:VEVENT
BEGIN:VEVENT
DTSTART;TZID=UTC:20151017T200000
DTEND;TZID=UTC:20151017T210000
DTSTAMP:20260423T212942
CREATED:20151013T200420Z
LAST-MODIFIED:20151013T201419Z
UID:1223-1445112000-1445115600@litera.mus.br
SUMMARY:Feevale Portas Abertas | Novo Hamburgo | RS
DESCRIPTION:Informações: Evento facebook
URL:https://litera.mus.br/agenda/feevale-portas-abertas-novo-hamburgo-rs/
LOCATION:Rio Grande do Sul
ATTACH;FMTTYPE=image/png:https://litera.mus.br/wp-content/uploads/2015/10/12074518_920072464748067_2210888818631542189_n.png
END:VEVENT
BEGIN:VEVENT
DTSTART;TZID=UTC:20150708T230000
DTEND;TZID=UTC:20150708T233000
DTSTAMP:20260423T212942
CREATED:20150701T133955Z
LAST-MODIFIED:20190408T190034Z
UID:1172-1436396400-1436398200@litera.mus.br
SUMMARY:Entrevista Discoteca Brasileira | FM Cultura - POA-RS
DESCRIPTION:Entrevista\, bate-papo com o vocalista da Lítera\, André Neto e mais 3 a 4 músicas acústicas ao vivo. É um bate papo sobre a arte da na cena independente\, histórias do rock gaúcho e turnê na Europa. \nO Discoteca Brasileira vai ao ar de segunda a sexta-feira\, das 22h às 24h\, na rádio FM Cultura. Apresentação DJ Piá e produção de Rodrigo dMart. Entrevista Discoteca Brasileira. \nOuça aqui: http://www.radios.com.br/aovivo/Radio-FM-Cultura-107.7-FM/13194 \nAndré Neto o poeta\n\nNossas músicas estão em todas as plataformas pra ouvir grátis. \n\n\n\nEscolha a sua preferida\, clicando aqui: https://litera.lnk.to/5CSbI\n• Instagram: http://instagram.com/literaoficial\n• Facebook: http://www.facebook.com/literaoficial \nEscute Lítera! ‪\nSpotify: https://goo.gl/SYHpeJ\nDeezer: http://goo.gl/LLQozT\nGoogle Play: https://goo.gl/mEFjS1\niTunes: https://goo.gl/0svot6 \nAssista: Vc já viveu um amor impossível? ↴\nhttps://goo.gl/dpzCmy \nAssista: Bercy ↴\nhttps://goo.gl/fzktXg \nAssista: Domitila ↴\nhttps://goo.gl/U0sm8
URL:https://litera.mus.br/agenda/entrevista-discoteca-brasileira/
LOCATION:Rio Grande do Sul
ATTACH;FMTTYPE=image/png:https://litera.mus.br/wp-content/uploads/2018/04/LITERA-GRAVATAI.png
END:VEVENT
END:VCALENDAR